Package: Statial Version: 1.11.6 Command: rm -rf Statial.buildbin-libdir && mkdir Statial.buildbin-libdir && /Users/biocbuild/BBS/utils/build-universal.sh Statial_1.11.6.tar.gz /Library/Frameworks/R.framework/Resources/bin/R Statial.buildbin-libdir StartedAt: 2025-10-04 02:33:00 -0400 (Sat, 04 Oct 2025) EndedAt: 2025-10-04 02:33:44 -0400 (Sat, 04 Oct 2025) EllapsedTime: 44.1 seconds RetCode: 0 Status: OK PackageFile: Statial_1.11.6.tgz PackageFileSize: 9.723 MiB