Package: Statial Version: 1.11.6 Maintainer: Farhan Ameen MaintainerEmail: fame2827 at uni.sydney.edu.au git_url: https://git.bioconductor.org/packages/Statial git_branch: devel git_last_commit: d178b9e git_last_commit_date: 2025-09-26 06:49:20 -0400 (Fri, 26 Sep 2025)