Package: StabMap Version: 1.5.0 Command: /home/biocbuild/bbs-3.23-bioc/R/bin/R CMD INSTALL StabMap StartedAt: 2025-11-05 15:59:44 -0500 (Wed, 05 Nov 2025) EndedAt: 2025-11-05 16:00:05 -0500 (Wed, 05 Nov 2025) EllapsedTime: 20.8 seconds RetCode: 0 Status: OK