Package: StabMap Version: 1.5.0 Command: /home/biocbuild/bbs-3.23-bioc/R/bin/R CMD check --install=check:StabMap.install-out.txt --library=/home/biocbuild/bbs-3.23-bioc/R/site-library --timings StabMap_1.5.0.tar.gz StartedAt: 2025-11-06 04:25:19 -0500 (Thu, 06 Nov 2025) EndedAt: 2025-11-06 04:33:57 -0500 (Thu, 06 Nov 2025) EllapsedTime: 517.6 seconds RetCode: 0 Status: OK CheckDir: StabMap.Rcheck Warnings: 0