Package: SpotSweeper Version: 1.5.0 Command: /home/biocbuild/R/R/bin/R CMD build --keep-empty-dirs --no-resave-data SpotSweeper StartedAt: 2025-10-14 03:55:35 -0000 (Tue, 14 Oct 2025) EndedAt: 2025-10-14 03:58:57 -0000 (Tue, 14 Oct 2025) EllapsedTime: 202.1 seconds RetCode: 0 Status: OK PackageFile: SpotSweeper_1.5.0.tar.gz PackageFileSize: 3.067 MiB