Package: SpotSweeper Version: 1.5.0 Command: /home/biocbuild/bbs-3.22-bioc/R/bin/R CMD check --install=check:SpotSweeper.install-out.txt --library=/home/biocbuild/bbs-3.22-bioc/R/site-library --timings SpotSweeper_1.5.0.tar.gz StartedAt: 2025-10-11 04:55:45 -0400 (Sat, 11 Oct 2025) EndedAt: 2025-10-11 05:02:12 -0400 (Sat, 11 Oct 2025) EllapsedTime: 386.3 seconds RetCode: 1 Status: ERROR CheckDir: SpotSweeper.Rcheck Warnings: NA