Package: SpotSweeper Version: 1.7.0 Command: /home/biocbuild/bbs-3.23-bioc/R/bin/R CMD INSTALL SpotSweeper StartedAt: 2025-11-05 15:30:42 -0500 (Wed, 05 Nov 2025) EndedAt: 2025-11-05 15:31:21 -0500 (Wed, 05 Nov 2025) EllapsedTime: 39.6 seconds RetCode: 0 Status: OK