Package: SpotSweeper Version: 1.7.0 Command: /home/biocbuild/bbs-3.23-bioc/R/bin/R CMD check --install=check:SpotSweeper.install-out.txt --library=/home/biocbuild/bbs-3.23-bioc/R/site-library --timings SpotSweeper_1.7.0.tar.gz StartedAt: 2025-11-25 04:26:04 -0500 (Tue, 25 Nov 2025) EndedAt: 2025-11-25 04:35:43 -0500 (Tue, 25 Nov 2025) EllapsedTime: 579.7 seconds RetCode: 0 Status: OK CheckDir: SpotSweeper.Rcheck Warnings: 0