Package: SpotSweeper Version: 1.7.0 Command: /home/biocbuild/bbs-3.23-bioc/R/bin/R CMD build --keep-empty-dirs --no-resave-data SpotSweeper StartedAt: 2025-11-05 20:20:21 -0500 (Wed, 05 Nov 2025) EndedAt: 2025-11-05 20:22:42 -0500 (Wed, 05 Nov 2025) EllapsedTime: 141.2 seconds RetCode: 0 Status: OK PackageFile: SpotSweeper_1.7.0.tar.gz PackageFileSize: 3.402 MiB