Package: SpotClean Version: 1.13.0 Command: /home/biocbuild/bbs-3.23-bioc/R/bin/R CMD build --keep-empty-dirs --no-resave-data SpotClean StartedAt: 2025-11-20 20:19:35 -0500 (Thu, 20 Nov 2025) EndedAt: 2025-11-20 20:23:30 -0500 (Thu, 20 Nov 2025) EllapsedTime: 235.2 seconds RetCode: 0 Status: OK PackageFile: SpotClean_1.13.0.tar.gz PackageFileSize: 3.965 MiB