Package: SpotClean Version: 1.11.0 Command: /Library/Frameworks/R.framework/Resources/bin/R CMD build --keep-empty-dirs --no-resave-data SpotClean StartedAt: 2025-10-14 19:30:12 -0400 (Tue, 14 Oct 2025) EndedAt: 2025-10-14 19:34:41 -0400 (Tue, 14 Oct 2025) EllapsedTime: 269.1 seconds RetCode: 0 Status: OK PackageFile: SpotClean_1.11.0.tar.gz PackageFileSize: 4.385 MiB