Package: SpotClean Version: 1.11.0 Command: /Library/Frameworks/R.framework/Resources/bin/R CMD INSTALL SpotClean StartedAt: 2025-10-03 15:12:54 -0400 (Fri, 03 Oct 2025) EndedAt: 2025-10-03 15:13:09 -0400 (Fri, 03 Oct 2025) EllapsedTime: 15.4 seconds RetCode: 0 Status: OK