Package: SpotClean Version: 1.11.0 Command: /Library/Frameworks/R.framework/Resources/bin/R CMD build --keep-empty-dirs --no-resave-data SpotClean StartedAt: 2025-10-03 17:50:26 -0400 (Fri, 03 Oct 2025) EndedAt: 2025-10-03 17:52:05 -0400 (Fri, 03 Oct 2025) EllapsedTime: 99.2 seconds RetCode: 0 Status: OK PackageFile: SpotClean_1.11.0.tar.gz PackageFileSize: 4.383 MiB