Package: SpotClean Version: 1.11.0 Command: rm -rf SpotClean.buildbin-libdir && mkdir SpotClean.buildbin-libdir && /Users/biocbuild/BBS/utils/build-universal.sh SpotClean_1.11.0.tar.gz /Library/Frameworks/R.framework/Resources/bin/R SpotClean.buildbin-libdir StartedAt: 2025-10-03 22:57:27 -0400 (Fri, 03 Oct 2025) EndedAt: 2025-10-03 22:57:44 -0400 (Fri, 03 Oct 2025) EllapsedTime: 17.4 seconds RetCode: 0 Status: OK PackageFile: SpotClean_1.11.0.tgz PackageFileSize: 4.451 MiB