Package: SplineDV Version: 1.3.0 Command: /home/biocbuild/bbs-3.23-bioc/R/bin/R CMD INSTALL SplineDV StartedAt: 2025-11-20 15:32:33 -0500 (Thu, 20 Nov 2025) EndedAt: 2025-11-20 15:33:00 -0500 (Thu, 20 Nov 2025) EllapsedTime: 26.6 seconds RetCode: 0 Status: OK