Package: SplineDV Version: 1.1.1 Command: /Library/Frameworks/R.framework/Resources/bin/R CMD INSTALL SplineDV StartedAt: 2025-10-23 15:29:54 -0400 (Thu, 23 Oct 2025) EndedAt: 2025-10-23 15:30:35 -0400 (Thu, 23 Oct 2025) EllapsedTime: 41.4 seconds RetCode: 0 Status: OK