Package: SplineDV Version: 1.1.1 Command: /Library/Frameworks/R.framework/Resources/bin/R CMD build --keep-empty-dirs --no-resave-data SplineDV StartedAt: 2025-10-23 18:50:05 -0400 (Thu, 23 Oct 2025) EndedAt: 2025-10-23 18:53:28 -0400 (Thu, 23 Oct 2025) EllapsedTime: 203.4 seconds RetCode: 0 Status: OK PackageFile: SplineDV_1.1.1.tar.gz PackageFileSize: 2.377 MiB