Package: SplineDV Version: 1.1.1 Command: /Library/Frameworks/R.framework/Resources/bin/R CMD INSTALL SplineDV StartedAt: 2025-10-17 15:18:18 -0400 (Fri, 17 Oct 2025) EndedAt: 2025-10-17 15:18:29 -0400 (Fri, 17 Oct 2025) EllapsedTime: 11.1 seconds RetCode: 0 Status: OK