Package: SplineDV Version: 1.1.1 Command: /Library/Frameworks/R.framework/Resources/bin/R CMD build --keep-empty-dirs --no-resave-data SplineDV StartedAt: 2025-10-17 17:53:44 -0400 (Fri, 17 Oct 2025) EndedAt: 2025-10-17 17:55:07 -0400 (Fri, 17 Oct 2025) EllapsedTime: 82.9 seconds RetCode: 0 Status: OK PackageFile: SplineDV_1.1.1.tar.gz PackageFileSize: 2.377 MiB