Package: SplineDV Version: 1.1.1 Command: rm -rf SplineDV.buildbin-libdir && mkdir SplineDV.buildbin-libdir && /Users/biocbuild/BBS/utils/build-universal.sh SplineDV_1.1.1.tar.gz /Library/Frameworks/R.framework/Resources/bin/R SplineDV.buildbin-libdir StartedAt: 2025-10-17 23:27:09 -0400 (Fri, 17 Oct 2025) EndedAt: 2025-10-17 23:27:22 -0400 (Fri, 17 Oct 2025) EllapsedTime: 13.3 seconds RetCode: 0 Status: OK PackageFile: SplineDV_1.1.1.tgz PackageFileSize: 2.417 MiB