Package: SplineDV Version: 1.3.0 Maintainer: Shreyan Gupta MaintainerEmail: xenon8778 at tamu.edu git_url: https://git.bioconductor.org/packages/SplineDV git_branch: devel git_last_commit: 0bab677 git_last_commit_date: 2025-10-29 11:33:07 -0400 (Wed, 29 Oct 2025)