Package: SplicingGraphs Version: 1.49.1 Command: /home/biocbuild/R/R/bin/R CMD check --install=check:SplicingGraphs.install-out.txt --library=/home/biocbuild/R/R/site-library --no-vignettes --timings SplicingGraphs_1.49.1.tar.gz StartedAt: 2025-10-03 11:59:43 -0000 (Fri, 03 Oct 2025) EndedAt: 2025-10-03 12:09:10 -0000 (Fri, 03 Oct 2025) EllapsedTime: 566.8 seconds RetCode: 0 Status: WARNINGS CheckDir: SplicingGraphs.Rcheck Warnings: 2