Package: SplicingGraphs Version: 1.51.1 Command: /home/biocbuild/bbs-3.23-bioc/R/bin/R CMD INSTALL SplicingGraphs StartedAt: 2025-11-02 15:45:07 -0500 (Sun, 02 Nov 2025) EndedAt: 2025-11-02 15:45:49 -0500 (Sun, 02 Nov 2025) EllapsedTime: 41.7 seconds RetCode: 0 Status: OK