Package: SplicingGraphs Version: 1.51.1 Command: /home/biocbuild/bbs-3.23-bioc/R/bin/R CMD check --install=check:SplicingGraphs.install-out.txt --library=/home/biocbuild/bbs-3.23-bioc/R/site-library --timings SplicingGraphs_1.51.1.tar.gz StartedAt: 2025-11-05 04:10:43 -0500 (Wed, 05 Nov 2025) EndedAt: 2025-11-05 04:21:13 -0500 (Wed, 05 Nov 2025) EllapsedTime: 629.7 seconds RetCode: 0 Status: WARNINGS CheckDir: SplicingGraphs.Rcheck Warnings: 2