############################################################################## ############################################################################## ### ### Running command: ### ### /home/biocbuild/bbs-3.23-bioc/R/bin/R CMD build --keep-empty-dirs --no-resave-data SplicingGraphs ### ############################################################################## ############################################################################## * checking for file ‘SplicingGraphs/DESCRIPTION’ ... OK * preparing ‘SplicingGraphs’: * checking DESCRIPTION meta-information ... OK * installing the package (it is needed to build vignettes) * creating vignettes ... OK * checking for LF line-endings in source and make files and shell scripts * checking for empty or unneeded directories NB: this package now depends on R (>= 3.5.0) WARNING: Added dependency on R >= 3.5.0 because serialized objects in serialize/load version 3 cannot be read in older versions of R. File(s) containing such objects: ‘SplicingGraphs/inst/extdata/TSPCsg.rda’ ‘SplicingGraphs/vignettes/precomputed_results/sg_with_bubbles.rds’ * building ‘SplicingGraphs_1.51.1.tar.gz’