Package: SplicingFactory Version: 1.19.0 Command: /home/biocbuild/bbs-3.23-bioc/R/bin/R CMD INSTALL SplicingFactory StartedAt: 2025-11-03 15:21:41 -0500 (Mon, 03 Nov 2025) EndedAt: 2025-11-03 15:22:00 -0500 (Mon, 03 Nov 2025) EllapsedTime: 19.6 seconds RetCode: 0 Status: OK