Package: SplicingFactory Version: 1.19.0 Command: /home/biocbuild/bbs-3.23-bioc/R/bin/R CMD check --install=check:SplicingFactory.install-out.txt --library=/home/biocbuild/bbs-3.23-bioc/R/site-library --timings SplicingFactory_1.19.0.tar.gz StartedAt: 2025-11-03 03:47:49 -0500 (Mon, 03 Nov 2025) EndedAt: 2025-11-03 03:50:26 -0500 (Mon, 03 Nov 2025) EllapsedTime: 156.2 seconds RetCode: 0 Status: OK CheckDir: SplicingFactory.Rcheck Warnings: 0