Package: SplicingFactory Version: 1.19.0 Command: /home/biocbuild/bbs-3.23-bioc/R/bin/R CMD build --keep-empty-dirs --no-resave-data SplicingFactory StartedAt: 2025-11-03 20:08:12 -0500 (Mon, 03 Nov 2025) EndedAt: 2025-11-03 20:08:45 -0500 (Mon, 03 Nov 2025) EllapsedTime: 33.0 seconds RetCode: 0 Status: OK PackageFile: SplicingFactory_1.19.0.tar.gz PackageFileSize: 755 KiB