Package: SplicingFactory Version: 1.19.0 Command: /Library/Frameworks/R.framework/Resources/bin/R CMD check --install=check:SplicingFactory.install-out.txt --library=/Library/Frameworks/R.framework/Resources/library --no-vignettes --timings SplicingFactory_1.19.0.tar.gz StartedAt: 2025-11-24 00:28:24 -0500 (Mon, 24 Nov 2025) EndedAt: 2025-11-24 00:31:06 -0500 (Mon, 24 Nov 2025) EllapsedTime: 162.0 seconds RetCode: 0 Status: OK CheckDir: SplicingFactory.Rcheck Warnings: 0