Package: SplicingFactory Version: 1.17.0 Command: /Library/Frameworks/R.framework/Resources/bin/R CMD check --install=check:SplicingFactory.install-out.txt --library=/Library/Frameworks/R.framework/Resources/library --no-vignettes --timings SplicingFactory_1.17.0.tar.gz StartedAt: 2025-10-15 22:02:39 -0400 (Wed, 15 Oct 2025) EndedAt: 2025-10-15 22:03:36 -0400 (Wed, 15 Oct 2025) EllapsedTime: 56.6 seconds RetCode: 0 Status: OK CheckDir: SplicingFactory.Rcheck Warnings: 0