Package: SpliceWiz Version: 1.11.0 Command: /home/biocbuild/R/R/bin/R CMD build --keep-empty-dirs --no-resave-data SpliceWiz StartedAt: 2025-10-14 03:52:31 -0000 (Tue, 14 Oct 2025) EndedAt: 2025-10-14 04:00:01 -0000 (Tue, 14 Oct 2025) EllapsedTime: 450.1 seconds RetCode: 0 Status: OK PackageFile: SpliceWiz_1.11.0.tar.gz PackageFileSize: 4.244 MiB