Package: SpliceWiz Version: 1.11.0 Command: /home/biocbuild/bbs-3.22-bioc/R/bin/R CMD check --install=check:SpliceWiz.install-out.txt --library=/home/biocbuild/bbs-3.22-bioc/R/site-library --timings SpliceWiz_1.11.0.tar.gz StartedAt: 2025-10-10 04:42:57 -0400 (Fri, 10 Oct 2025) EndedAt: 2025-10-10 05:01:55 -0400 (Fri, 10 Oct 2025) EllapsedTime: 1137.2 seconds RetCode: 0 Status: WARNINGS CheckDir: SpliceWiz.Rcheck Warnings: 1