Package: SpliceWiz Version: 1.13.0 Command: /home/biocbuild/bbs-3.23-bioc/R/bin/R CMD INSTALL SpliceWiz StartedAt: 2025-11-04 15:34:50 -0500 (Tue, 04 Nov 2025) EndedAt: 2025-11-04 15:36:39 -0500 (Tue, 04 Nov 2025) EllapsedTime: 108.5 seconds RetCode: 0 Status: OK