Package: SpliceWiz Version: 1.13.0 Command: /home/biocbuild/bbs-3.23-bioc/R/bin/R CMD check --install=check:SpliceWiz.install-out.txt --library=/home/biocbuild/bbs-3.23-bioc/R/site-library --timings SpliceWiz_1.13.0.tar.gz StartedAt: 2025-11-19 05:12:30 -0500 (Wed, 19 Nov 2025) EndedAt: 2025-11-19 05:31:26 -0500 (Wed, 19 Nov 2025) EllapsedTime: 1136.3 seconds RetCode: 0 Status: WARNINGS CheckDir: SpliceWiz.Rcheck Warnings: 1