Package: SpliceWiz Version: 1.13.0 Command: /home/biocbuild/bbs-3.23-bioc/R/bin/R CMD build --keep-empty-dirs --no-resave-data SpliceWiz StartedAt: 2025-11-04 20:10:44 -0500 (Tue, 04 Nov 2025) EndedAt: 2025-11-04 20:16:31 -0500 (Tue, 04 Nov 2025) EllapsedTime: 347.3 seconds RetCode: 0 Status: OK PackageFile: SpliceWiz_1.13.0.tar.gz PackageFileSize: 4.706 MiB