Package: SpliceWiz Version: 1.13.0 Command: /Library/Frameworks/R.framework/Resources/bin/R CMD INSTALL SpliceWiz StartedAt: 2025-11-27 15:36:30 -0500 (Thu, 27 Nov 2025) EndedAt: 2025-11-27 15:38:52 -0500 (Thu, 27 Nov 2025) EllapsedTime: 141.5 seconds RetCode: 0 Status: OK