Package: SpliceWiz Version: 1.13.0 Command: rm -rf SpliceWiz.buildbin-libdir && mkdir SpliceWiz.buildbin-libdir && /Users/biocbuild/BBS/utils/build-universal.sh SpliceWiz_1.13.0.tar.gz /Library/Frameworks/R.framework/Resources/bin/R SpliceWiz.buildbin-libdir StartedAt: 2025-11-28 06:34:34 -0500 (Fri, 28 Nov 2025) EndedAt: 2025-11-28 06:37:12 -0500 (Fri, 28 Nov 2025) EllapsedTime: 158.3 seconds RetCode: 0 Status: OK PackageFile: SpliceWiz_1.13.0.tgz PackageFileSize: 5.799 MiB