Package: SpectriPy Version: 1.1.0 Command: /home/biocbuild/bbs-3.23-bioc/R/bin/R CMD INSTALL SpectriPy StartedAt: 2025-11-19 15:18:12 -0500 (Wed, 19 Nov 2025) EndedAt: 2025-11-19 15:18:44 -0500 (Wed, 19 Nov 2025) EllapsedTime: 31.5 seconds RetCode: 0 Status: OK