Package: SpectriPy Version: 1.1.0 Command: /home/biocbuild/bbs-3.23-bioc/R/bin/R CMD check --install=check:SpectriPy.install-out.txt --library=/home/biocbuild/bbs-3.23-bioc/R/site-library --timings SpectriPy_1.1.0.tar.gz StartedAt: 2025-11-20 04:22:18 -0500 (Thu, 20 Nov 2025) EndedAt: 2025-11-20 04:35:26 -0500 (Thu, 20 Nov 2025) EllapsedTime: 788.0 seconds RetCode: 0 Status: OK CheckDir: SpectriPy.Rcheck Warnings: 0