Package: SpectriPy Version: 1.1.0 Command: /home/biocbuild/bbs-3.23-bioc/R/bin/R CMD build --keep-empty-dirs --no-resave-data SpectriPy StartedAt: 2025-11-19 20:17:18 -0500 (Wed, 19 Nov 2025) EndedAt: 2025-11-19 20:26:09 -0500 (Wed, 19 Nov 2025) EllapsedTime: 530.6 seconds RetCode: 0 Status: OK PackageFile: SpectriPy_1.1.0.tar.gz PackageFileSize: 1.009 MiB