Package: SpectralTAD Version: 1.25.0 Command: /home/biocbuild/R/R/bin/R CMD INSTALL SpectralTAD StartedAt: 2025-10-20 20:46:28 -0000 (Mon, 20 Oct 2025) EndedAt: 2025-10-20 20:46:43 -0000 (Mon, 20 Oct 2025) EllapsedTime: 14.6 seconds RetCode: 0 Status: OK