Package: SpectralTAD Version: 1.25.0 Command: /home/biocbuild/R/R/bin/R CMD build --keep-empty-dirs --no-resave-data SpectralTAD StartedAt: 2025-10-21 03:23:46 -0000 (Tue, 21 Oct 2025) EndedAt: 2025-10-21 03:26:03 -0000 (Tue, 21 Oct 2025) EllapsedTime: 137.0 seconds RetCode: 0 Status: OK PackageFile: SpectralTAD_1.25.0.tar.gz PackageFileSize: 1.515 MiB