Package: SpectralTAD Version: 1.25.0 Command: /home/biocbuild/bbs-3.22-bioc/R/bin/R CMD check --install=check:SpectralTAD.install-out.txt --library=/home/biocbuild/bbs-3.22-bioc/R/site-library --timings SpectralTAD_1.25.0.tar.gz StartedAt: 2025-10-11 04:51:19 -0400 (Sat, 11 Oct 2025) EndedAt: 2025-10-11 04:54:42 -0400 (Sat, 11 Oct 2025) EllapsedTime: 203.2 seconds RetCode: 0 Status: OK CheckDir: SpectralTAD.Rcheck Warnings: 0