Package: SpectralTAD Version: 1.27.0 Command: /home/biocbuild/bbs-3.23-bioc/R/bin/R CMD INSTALL SpectralTAD StartedAt: 2025-11-06 15:31:04 -0500 (Thu, 06 Nov 2025) EndedAt: 2025-11-06 15:31:14 -0500 (Thu, 06 Nov 2025) EllapsedTime: 10.1 seconds RetCode: 0 Status: OK