Package: SpectralTAD Version: 1.27.0 Command: /home/biocbuild/bbs-3.23-bioc/R/bin/R CMD build --keep-empty-dirs --no-resave-data SpectralTAD StartedAt: 2025-11-06 20:08:53 -0500 (Thu, 06 Nov 2025) EndedAt: 2025-11-06 20:10:27 -0500 (Thu, 06 Nov 2025) EllapsedTime: 94.1 seconds RetCode: 0 Status: OK PackageFile: SpectralTAD_1.27.0.tar.gz PackageFileSize: 1.491 MiB