Package: SpectraQL Version: 1.3.1 Command: /home/biocbuild/R/R/bin/R CMD INSTALL SpectraQL StartedAt: 2025-10-06 20:26:28 -0000 (Mon, 06 Oct 2025) EndedAt: 2025-10-06 20:26:39 -0000 (Mon, 06 Oct 2025) EllapsedTime: 11.6 seconds RetCode: 0 Status: OK