Package: SpectraQL Version: 1.3.1 Command: /home/biocbuild/R/R/bin/R CMD build --keep-empty-dirs --no-resave-data SpectraQL StartedAt: 2025-10-03 03:27:05 -0000 (Fri, 03 Oct 2025) EndedAt: 2025-10-03 03:27:33 -0000 (Fri, 03 Oct 2025) EllapsedTime: 28.0 seconds RetCode: 0 Status: OK PackageFile: SpectraQL_1.3.1.tar.gz PackageFileSize: 487.8 KiB