Package: SpectraQL Version: 1.5.0 Command: /home/biocbuild/bbs-3.23-bioc/R/bin/R CMD check --install=check:SpectraQL.install-out.txt --library=/home/biocbuild/bbs-3.23-bioc/R/site-library --timings SpectraQL_1.5.0.tar.gz StartedAt: 2025-11-21 04:20:29 -0500 (Fri, 21 Nov 2025) EndedAt: 2025-11-21 04:21:57 -0500 (Fri, 21 Nov 2025) EllapsedTime: 88.1 seconds RetCode: 0 Status: OK CheckDir: SpectraQL.Rcheck Warnings: 0