Package: Spectra Version: 1.21.0 Command: /home/biocbuild/bbs-3.23-bioc/R/bin/R CMD INSTALL Spectra StartedAt: 2025-11-17 15:14:52 -0500 (Mon, 17 Nov 2025) EndedAt: 2025-11-17 15:15:07 -0500 (Mon, 17 Nov 2025) EllapsedTime: 15.2 seconds RetCode: 0 Status: OK