Package: Spectra Version: 1.21.0 Command: /home/biocbuild/bbs-3.23-bioc/R/bin/R CMD build --keep-empty-dirs --no-resave-data Spectra StartedAt: 2025-11-17 20:22:38 -0500 (Mon, 17 Nov 2025) EndedAt: 2025-11-17 20:23:29 -0500 (Mon, 17 Nov 2025) EllapsedTime: 51.1 seconds RetCode: 0 Status: OK PackageFile: Spectra_1.21.0.tar.gz PackageFileSize: 1.808 MiB